BEGIN:VCALENDAR
VERSION:2.0
PRODID:-//Washington Street Church of God - ECPv6.15.18//NONSGML v1.0//EN
CALSCALE:GREGORIAN
METHOD:PUBLISH
X-ORIGINAL-URL:https://washingtonstreet.org
X-WR-CALDESC:Events for Washington Street Church of God
REFRESH-INTERVAL;VALUE=DURATION:PT1H
X-Robots-Tag:noindex
X-PUBLISHED-TTL:PT1H
BEGIN:VTIMEZONE
TZID:UTC
BEGIN:STANDARD
TZOFFSETFROM:+0000
TZOFFSETTO:+0000
TZNAME:UTC
DTSTART:20160101T000000
END:STANDARD
END:VTIMEZONE
BEGIN:VEVENT
DTSTART;TZID=UTC:20211205T110000
DTEND;TZID=UTC:20211205T130000
DTSTAMP:20260422T180910
CREATED:20211108T161247Z
LAST-MODIFIED:20211130T171503Z
UID:3711-1638702000-1638709200@washingtonstreet.org
SUMMARY:Sunday Worship Service
DESCRIPTION:Join Pastor Mike and our Washington Street Church family for Weekly Worship Service at 11:00 am every Sunday at 2101 Washington Street\, Gary IN 46407.
URL:https://washingtonstreet.org/event/3711/
LOCATION:Washington Street Church\, 2101 Washington Street\, Gary\, 46407\, United States
END:VEVENT
BEGIN:VEVENT
DTSTART;TZID=UTC:20170521T110000
DTEND;TZID=UTC:20170521T120000
DTSTAMP:20260422T180910
CREATED:20170501T154239Z
LAST-MODIFIED:20170501T194043Z
UID:55-1495364400-1495368000@washingtonstreet.org
SUMMARY:Pastor Nathan Riley
DESCRIPTION:Pastor Nathan Riley from Eternal Word Kingdom Ministries
URL:https://washingtonstreet.org/event/sample-event-2/
ATTACH;FMTTYPE=image/jpeg:https://washingtonstreet.org/wp-content/uploads/sites/12/2017/03/events-news-placeholder-img.jpg
END:VEVENT
BEGIN:VEVENT
DTSTART;TZID=UTC:20170519T183000
DTEND;TZID=UTC:20170519T190000
DTSTAMP:20260422T180910
CREATED:20170505T151313Z
LAST-MODIFIED:20170505T152137Z
UID:158-1495218600-1495220400@washingtonstreet.org
SUMMARY:Pastor Matthew Whittington
DESCRIPTION:Pastor Matthew Whittington at 6:30 p.m. will be speaking at Chateau Banquets\, 530 West 61st Avenue\, Merrillville Indiana. Banquet Tickets are $35
URL:https://washingtonstreet.org/event/pastor-matthew-whittington/
LOCATION:Chateau Banquets\, 530 west 61st Avenue\, Merrillville\, IN\, United States
ATTACH;FMTTYPE=image/jpeg:https://washingtonstreet.org/wp-content/uploads/sites/12/2017/03/events-news-placeholder-img.jpg
END:VEVENT
BEGIN:VEVENT
DTSTART;TZID=UTC:20170518T080000
DTEND;TZID=UTC:20170518T170000
DTSTAMP:20260422T180910
CREATED:20170505T150551Z
LAST-MODIFIED:20170505T150750Z
UID:156-1495094400-1495126800@washingtonstreet.org
SUMMARY:Pastor Dennis Walton
DESCRIPTION:
URL:https://washingtonstreet.org/event/pastor-dennis-walton/
ATTACH;FMTTYPE=image/jpeg:https://washingtonstreet.org/wp-content/uploads/sites/12/2017/03/events-news-placeholder-img.jpg
END:VEVENT
BEGIN:VEVENT
DTSTART;TZID=UTC:20170517T190000
DTEND;TZID=UTC:20170517T200000
DTSTAMP:20260422T180910
CREATED:20170505T150320Z
LAST-MODIFIED:20170505T151935Z
UID:154-1495047600-1495051200@washingtonstreet.org
SUMMARY:Pastor Jackie Drago Hunter
DESCRIPTION:
URL:https://washingtonstreet.org/event/pastor-jackie-drago-hunter/
ATTACH;FMTTYPE=image/jpeg:https://washingtonstreet.org/wp-content/uploads/sites/12/2017/03/events-news-placeholder-img.jpg
END:VEVENT
BEGIN:VEVENT
DTSTART;VALUE=DATE:20170502
DTEND;VALUE=DATE:20170503
DTSTAMP:20260422T180910
CREATED:20170501T153853Z
LAST-MODIFIED:20170501T154042Z
UID:53-1493683200-1493769599@washingtonstreet.org
SUMMARY:Sample Event
DESCRIPTION:
URL:https://washingtonstreet.org/event/sample-event/
ATTACH;FMTTYPE=image/jpeg:https://washingtonstreet.org/wp-content/uploads/sites/12/2017/03/events-news-placeholder-img.jpg
END:VEVENT
BEGIN:VEVENT
DTSTART;VALUE=DATE:20170501
DTEND;VALUE=DATE:20170502
DTSTAMP:20260422T180910
CREATED:20170501T160136Z
LAST-MODIFIED:20170501T160137Z
UID:57-1493596800-1493683199@washingtonstreet.org
SUMMARY:Sample Event 3
DESCRIPTION:
URL:https://washingtonstreet.org/event/sample-event-3/
ATTACH;FMTTYPE=image/jpeg:https://washingtonstreet.org/wp-content/uploads/sites/12/2017/03/events-news-placeholder-img.jpg
END:VEVENT
END:VCALENDAR